BEGIN:VCALENDAR
VERSION:2.0
CALSCALE:GREGORIAN
PRODID:Sportnet.sk
METHOD:PUBLISH
X-PUBLISHED-TTL:PT1H
BEGIN:VEVENT
UID:tvprogram-cal:69cd16d8aae1188f030db411
SUMMARY:Nova Sport 3: PSG - Olympique Lyon
DTSTAMP:20260315T134300Z
DTSTART:20260419T184000Z
DTEND:20260419T205500Z
DESCRIPTION:Futbal\, Francúzsko\, 30. kolo
END:VEVENT
END:VCALENDAR
