BEGIN:VCALENDAR
VERSION:2.0
CALSCALE:GREGORIAN
PRODID:Sportnet.sk
METHOD:PUBLISH
X-PUBLISHED-TTL:PT1H
BEGIN:VEVENT
UID:tvprogram-cal:69cd16d8aae1188f030db3c8
SUMMARY:Oneplay Sport MD9: HC Oceláři Třinec - HC Dynamo Pardubice
DTSTAMP:20260315T134300Z
DTSTART:20260423T150000Z
DTEND:20260423T183000Z
DESCRIPTION:Ľadový hokej\, Česko\, finále - kamera rozhodcu
END:VEVENT
END:VCALENDAR
