BEGIN:VCALENDAR
VERSION:2.0
CALSCALE:GREGORIAN
PRODID:Sportnet.sk
METHOD:PUBLISH
X-PUBLISHED-TTL:PT1H
BEGIN:VEVENT
UID:tvprogram-cal:69cd16d8aae1188f030db3c3
SUMMARY:Oneplay Sport 4: HC Dynamo Pardubice - HC Oceláři Třinec
DTSTAMP:20260315T134300Z
DTSTART:20260426T141500Z
DTEND:20260426T174500Z
DESCRIPTION:Ľadový hokej\, Česko\, finále
END:VEVENT
END:VCALENDAR
