BEGIN:VCALENDAR
VERSION:2.0
CALSCALE:GREGORIAN
PRODID:Sportnet.sk
METHOD:PUBLISH
X-PUBLISHED-TTL:PT1H
BEGIN:VEVENT
UID:tvprogram-cal:69cd16d8aae1188f030db3bb
SUMMARY:Oneplay Sport 4: HC Dukla Jihlava - HC Verva Litvínov
DTSTAMP:20260315T134300Z
DTSTART:20260422T153000Z
DTEND:20260422T190000Z
DESCRIPTION:Ľadový hokej\, Česko\, baráž
END:VEVENT
END:VCALENDAR
