BEGIN:VCALENDAR
VERSION:2.0
CALSCALE:GREGORIAN
PRODID:Sportnet.sk
METHOD:PUBLISH
X-PUBLISHED-TTL:PT1H
BEGIN:VEVENT
UID:tvprogram-cal:69cd16d8aae1188f030db3b3
SUMMARY:Oneplay Sport 4: MFK Karviná - FC Baník Ostrava
DTSTAMP:20260315T134300Z
DTSTART:20260421T180000Z
DTEND:20260421T203000Z
DESCRIPTION:Futbal\, Česko - pohár\, semifinále
END:VEVENT
END:VCALENDAR
