BEGIN:VCALENDAR
VERSION:2.0
CALSCALE:GREGORIAN
PRODID:Sportnet.sk
METHOD:PUBLISH
X-PUBLISHED-TTL:PT1H
BEGIN:VEVENT
UID:tvprogram-cal:69cd16d8aae1188f030db3b2
SUMMARY:Oneplay Sport 4: FK Jablonec - FK Mladá Boleslav
DTSTAMP:20260315T134300Z
DTSTART:20260421T150000Z
DTEND:20260421T173000Z
DESCRIPTION:Futbal\, Česko - pohár\, semifinále
END:VEVENT
END:VCALENDAR
