BEGIN:VCALENDAR
VERSION:2.0
CALSCALE:GREGORIAN
PRODID:Sportnet.sk
METHOD:PUBLISH
X-PUBLISHED-TTL:PT1H
BEGIN:VEVENT
UID:tvprogram-cal:69cd16d8aae1188f030db338
SUMMARY:Oneplay Sport MD2: Preteky
DTSTAMP:20260315T134300Z
DTSTART:20260426T120000Z
DTEND:20260426T130000Z
DESCRIPTION:Motorizmus\, MS v rely\, Španielsko
END:VEVENT
END:VCALENDAR
