BEGIN:VCALENDAR
VERSION:2.0
CALSCALE:GREGORIAN
PRODID:Sportnet.sk
METHOD:PUBLISH
X-PUBLISHED-TTL:PT1H
BEGIN:VEVENT
UID:tvprogram-cal:69cd16d8aae1188f030db334
SUMMARY:Oneplay Sport MD7: 4. deň
DTSTAMP:20260315T134300Z
DTSTART:20260426T100000Z
DTEND:20260426T140000Z
DESCRIPTION:Golf\, Ladies European Tour
END:VEVENT
END:VCALENDAR
