BEGIN:VCALENDAR
VERSION:2.0
CALSCALE:GREGORIAN
PRODID:Sportnet.sk
METHOD:PUBLISH
X-PUBLISHED-TTL:PT1H
BEGIN:VEVENT
UID:tvprogram-cal:69cd16d8aae1188f030db31f
SUMMARY:Oneplay Sport 2: Cincinnati Reds - Detroit Tigers
DTSTAMP:20260315T134300Z
DTSTART:20260424T223000Z
DTEND:20260425T013000Z
DESCRIPTION:Bejzbal\, MLS
END:VEVENT
END:VCALENDAR
