BEGIN:VCALENDAR
VERSION:2.0
CALSCALE:GREGORIAN
PRODID:Sportnet.sk
METHOD:PUBLISH
X-PUBLISHED-TTL:PT1H
BEGIN:VEVENT
UID:tvprogram-cal:69cd16d8aae1188f030db2a6
SUMMARY:Oneplay Sport 1: Bohemians Praha 1905 - AC Sparta Praha
DTSTAMP:20260315T134300Z
DTSTART:20260425T134000Z
DTEND:20260425T162000Z
DESCRIPTION:Futbal\, Česko\, 27. kolo
END:VEVENT
END:VCALENDAR
