BEGIN:VCALENDAR
VERSION:2.0
CALSCALE:GREGORIAN
PRODID:Sportnet.sk
METHOD:PUBLISH
X-PUBLISHED-TTL:PT1H
BEGIN:VEVENT
UID:tvprogram-cal:69cd16d8aae1188f030db29f
SUMMARY:Oneplay Sport 1: AS Monaco - FC Barcelona
DTSTAMP:20260315T134300Z
DTSTART:20260424T172500Z
DTEND:20260424T193000Z
DESCRIPTION:Basketbal\, Euroliga\, predkolo play-off
END:VEVENT
END:VCALENDAR
