BEGIN:VCALENDAR
VERSION:2.0
CALSCALE:GREGORIAN
PRODID:Sportnet.sk
METHOD:PUBLISH
X-PUBLISHED-TTL:PT1H
BEGIN:VEVENT
UID:tvprogram-cal:69cbc558aae1188f03b521d4
SUMMARY:Canal+ Sport 2: 2. kolo
DTSTAMP:20260315T134300Z
DTSTART:20260422T170000Z
DTEND:20260422T190000Z
DESCRIPTION:Tenis\, WTA 1000\, Madrid
END:VEVENT
END:VCALENDAR
