BEGIN:VCALENDAR
VERSION:2.0
CALSCALE:GREGORIAN
PRODID:Sportnet.sk
METHOD:PUBLISH
X-PUBLISHED-TTL:PT1H
BEGIN:VEVENT
UID:tvprogram-cal:69cbc558aae1188f03b5219d
SUMMARY:Canal+ Sport: Sunderland - Nottingham
DTSTAMP:20260315T134300Z
DTSTART:20260424T185500Z
DTEND:20260424T210500Z
DESCRIPTION:Futbal\, Anglicko\, 34. kolo
END:VEVENT
END:VCALENDAR
