BEGIN:VCALENDAR
VERSION:2.0
CALSCALE:GREGORIAN
PRODID:Sportnet.sk
METHOD:PUBLISH
X-PUBLISHED-TTL:PT1H
BEGIN:VEVENT
UID:tvprogram-cal:69cbc558aae1188f03b52136
SUMMARY:Sport 2: Fribourg - Davos
DTSTAMP:20260315T134300Z
DTSTART:20260420T180000Z
DTEND:20260420T203000Z
DESCRIPTION:Ľadový hokej\, Švajčiarsko\, finále
END:VEVENT
END:VCALENDAR
