BEGIN:VCALENDAR
VERSION:2.0
CALSCALE:GREGORIAN
PRODID:Sportnet.sk
METHOD:PUBLISH
X-PUBLISHED-TTL:PT1H
BEGIN:VEVENT
UID:tvprogram-cal:69cbc558aae1188f03b52113
SUMMARY:Sport 1: Turín - Inter
DTSTAMP:20260315T134300Z
DTSTART:20260426T160000Z
DTEND:20260426T180000Z
DESCRIPTION:Futbal\, Taliansko\, 34. kolo
END:VEVENT
END:VCALENDAR
