BEGIN:VCALENDAR
VERSION:2.0
CALSCALE:GREGORIAN
PRODID:Sportnet.sk
METHOD:PUBLISH
X-PUBLISHED-TTL:PT1H
BEGIN:VEVENT
UID:tvprogram-cal:69cbc558aae1188f03b5210d
SUMMARY:Sport 1: Fiorentina - Sassuolo
DTSTAMP:20260315T134300Z
DTSTART:20260426T103000Z
DTEND:20260426T123000Z
DESCRIPTION:Futbal\, Taliansko\, 34. kolo
END:VEVENT
END:VCALENDAR
