BEGIN:VCALENDAR
VERSION:2.0
CALSCALE:GREGORIAN
PRODID:Sportnet.sk
METHOD:PUBLISH
X-PUBLISHED-TTL:PT1H
BEGIN:VEVENT
UID:tvprogram-cal:69cbc558aae1188f03b5210b
SUMMARY:Sport 1: Bologna - AS Rím
DTSTAMP:20260315T134300Z
DTSTART:20260425T160000Z
DTEND:20260425T180000Z
DESCRIPTION:Futbal\, Taliansko\, 34. kolo
END:VEVENT
END:VCALENDAR
