BEGIN:VCALENDAR
VERSION:2.0
CALSCALE:GREGORIAN
PRODID:Sportnet.sk
METHOD:PUBLISH
X-PUBLISHED-TTL:PT1H
BEGIN:VEVENT
UID:tvprogram-cal:69cbc558aae1188f03b520f8
SUMMARY:Sport 1: Inter Miláno - Como
DTSTAMP:20260315T134300Z
DTSTART:20260421T190000Z
DTEND:20260421T210000Z
DESCRIPTION:Futbal\, Taliansko - pohár\, semifinále
END:VEVENT
END:VCALENDAR
