BEGIN:VCALENDAR
VERSION:2.0
CALSCALE:GREGORIAN
PRODID:Sportnet.sk
METHOD:PUBLISH
X-PUBLISHED-TTL:PT1H
BEGIN:VEVENT
UID:tvprogram-cal:69cbc558aae1188f03b520eb
SUMMARY:Sport 1: Lecce - Fiorentina
DTSTAMP:20260315T134300Z
DTSTART:20260420T184500Z
DTEND:20260420T204500Z
DESCRIPTION:Futbal\, Taliansko\, 33. kolo
END:VEVENT
END:VCALENDAR
