BEGIN:VCALENDAR
VERSION:2.0
CALSCALE:GREGORIAN
PRODID:Sportnet.sk
METHOD:PUBLISH
X-PUBLISHED-TTL:PT1H
BEGIN:VEVENT
UID:tvprogram-cal:69ca3b9aaae1188f03cc42c0
SUMMARY:Šport: Ženy do 53 kg
DTSTAMP:20260315T134300Z
DTSTART:20260419T151000Z
DTEND:20260419T155000Z
DESCRIPTION:Vzpieranie\, ME\, Batumi
END:VEVENT
END:VCALENDAR
