BEGIN:VCALENDAR
VERSION:2.0
CALSCALE:GREGORIAN
PRODID:Sportnet.sk
METHOD:PUBLISH
X-PUBLISHED-TTL:PT1H
BEGIN:VEVENT
UID:tvprogram-cal:69ca3b9aaae1188f03cc42ba
SUMMARY:Šport: FK Beluša - FK Slovan Duslo Šaľa
DTSTAMP:20260315T134300Z
DTSTART:20260419T105500Z
DTEND:20260419T125000Z
DESCRIPTION:Futbal\, III. liga\, 23. kolo
END:VEVENT
END:VCALENDAR
