BEGIN:VCALENDAR
VERSION:2.0
CALSCALE:GREGORIAN
PRODID:Sportnet.sk
METHOD:PUBLISH
X-PUBLISHED-TTL:PT1H
BEGIN:VEVENT
UID:tvprogram-cal:69c968b1aae1188f03310891
SUMMARY:Arena Sport 2: SK Puntigamer Sturm Graz - FK Austria Wien
DTSTAMP:20260315T134300Z
DTSTART:20260426T150000Z
DTEND:20260426T170000Z
DESCRIPTION:Futbal\, Rakúsko\, 29. kolo
END:VEVENT
END:VCALENDAR
