BEGIN:VCALENDAR
VERSION:2.0
CALSCALE:GREGORIAN
PRODID:Sportnet.sk
METHOD:PUBLISH
X-PUBLISHED-TTL:PT1H
BEGIN:VEVENT
UID:tvprogram-cal:69c968b1aae1188f03310880
SUMMARY:Arena Sport 2: AZ Alkmaar - NEC
DTSTAMP:20260315T134300Z
DTSTART:20260419T160000Z
DTEND:20260419T180000Z
DESCRIPTION:Futbal\, Holandsko - pohár\, finále
END:VEVENT
END:VCALENDAR
