BEGIN:VCALENDAR
VERSION:2.0
CALSCALE:GREGORIAN
PRODID:Sportnet.sk
METHOD:PUBLISH
X-PUBLISHED-TTL:PT1H
BEGIN:VEVENT
UID:tvprogram-cal:69c968b1aae1188f0331087f
SUMMARY:Arena Sport 2: Celtic - St Mirren
DTSTAMP:20260315T134300Z
DTSTART:20260419T130000Z
DTEND:20260419T150000Z
DESCRIPTION:Futbal\, Škótsko - pohár\, semifinále
END:VEVENT
END:VCALENDAR
