BEGIN:VCALENDAR
VERSION:2.0
CALSCALE:GREGORIAN
PRODID:Sportnet.sk
METHOD:PUBLISH
X-PUBLISHED-TTL:PT1H
BEGIN:VEVENT
UID:tvprogram-cal:69c968b1aae1188f03310877
SUMMARY:Arena Sport 1: Preteky
DTSTAMP:20260315T134300Z
DTSTART:20260425T200000Z
DTEND:20260425T223000Z
DESCRIPTION:Motorizmus\, NASCAR NOAPS
END:VEVENT
END:VCALENDAR
