BEGIN:VCALENDAR
VERSION:2.0
CALSCALE:GREGORIAN
PRODID:Sportnet.sk
METHOD:PUBLISH
X-PUBLISHED-TTL:PT1H
BEGIN:VEVENT
UID:tvprogram-cal:69c968b1aae1188f0331086d
SUMMARY:Arena Sport 1: PSV Eindhoven - PEC Zwolle
DTSTAMP:20260315T134300Z
DTSTART:20260423T190000Z
DTEND:20260423T210000Z
DESCRIPTION:Futbal\, Holandsko\, 31. kolo
END:VEVENT
END:VCALENDAR
