BEGIN:VCALENDAR
VERSION:2.0
CALSCALE:GREGORIAN
PRODID:Sportnet.sk
METHOD:PUBLISH
X-PUBLISHED-TTL:PT1H
BEGIN:VEVENT
UID:tvprogram-cal:69c968b1aae1188f03310864
SUMMARY:Arena Sport 1: Sporting CP - SL Benfica
DTSTAMP:20260315T134300Z
DTSTART:20260419T170000Z
DTEND:20260419T190000Z
DESCRIPTION:Futbal\, Portugalsko\, 30. kolo
END:VEVENT
END:VCALENDAR
