BEGIN:VCALENDAR
VERSION:2.0
CALSCALE:GREGORIAN
PRODID:Sportnet.sk
METHOD:PUBLISH
X-PUBLISHED-TTL:PT1H
BEGIN:VEVENT
UID:tvprogram-cal:69c968b1aae1188f03310861
SUMMARY:Arena Sport 1: LASK - SK Puntigamer Sturm Graz
DTSTAMP:20260315T134300Z
DTSTART:20260419T150000Z
DTEND:20260419T170000Z
DESCRIPTION:Futbal\, Rakúsko\, 27. kolo
END:VEVENT
END:VCALENDAR
