BEGIN:VCALENDAR
VERSION:2.0
CALSCALE:GREGORIAN
PRODID:Sportnet.sk
METHOD:PUBLISH
X-PUBLISHED-TTL:PT1H
BEGIN:VEVENT
UID:tvprogram-cal:69c968b1aae1188f0331085e
SUMMARY:Arena Sport 1: FK Austria Wien - FC Red Bull Salzburg
DTSTAMP:20260315T134300Z
DTSTART:20260419T123000Z
DTEND:20260419T143000Z
DESCRIPTION:Futbal\, Rakúsko\, 27. kolo
END:VEVENT
END:VCALENDAR
