BEGIN:VCALENDAR
VERSION:2.0
CALSCALE:GREGORIAN
PRODID:Sportnet.sk
METHOD:PUBLISH
X-PUBLISHED-TTL:PT1H
BEGIN:VEVENT
UID:tvprogram-cal:69c71a09aae1188f03716cba
SUMMARY:voyo.sk: FC DAC 1904 Dunajská Streda – MŠK Žilina
DTSTAMP:20260315T134300Z
DTSTART:20260425T183000Z
DTEND:20260425T204000Z
DESCRIPTION:Futbal\, Niké liga\, 7. kolo nadstavby - skupina o titul
END:VEVENT
END:VCALENDAR
