BEGIN:VCALENDAR
VERSION:2.0
CALSCALE:GREGORIAN
PRODID:Sportnet.sk
METHOD:PUBLISH
X-PUBLISHED-TTL:PT1H
BEGIN:VEVENT
UID:tvprogram-cal:69c71a09aae1188f03716ca0
SUMMARY:voyo.sk: Arsenal - Newcastle
DTSTAMP:20260315T134300Z
DTSTART:20260425T162500Z
DTEND:20260425T183500Z
DESCRIPTION:Futbal\, Anglicko\, 34. kolo
END:VEVENT
END:VCALENDAR
