BEGIN:VCALENDAR
VERSION:2.0
CALSCALE:GREGORIAN
PRODID:Sportnet.sk
METHOD:PUBLISH
X-PUBLISHED-TTL:PT1H
BEGIN:VEVENT
UID:tvprogram-cal:69c71a09aae1188f03716c99
SUMMARY:voyo.sk: Liverpool - Crystal Palace
DTSTAMP:20260315T134300Z
DTSTART:20260425T135500Z
DTEND:20260425T160500Z
DESCRIPTION:Futbal\, Anglicko\, 34. kolo
END:VEVENT
END:VCALENDAR
