BEGIN:VCALENDAR
VERSION:2.0
CALSCALE:GREGORIAN
PRODID:Sportnet.sk
METHOD:PUBLISH
X-PUBLISHED-TTL:PT1H
BEGIN:VEVENT
UID:tvprogram-cal:69c51fc9aae1188f032e1fd2
SUMMARY:Premier Sport 2: Finále
DTSTAMP:20260315T134300Z
DTSTART:20260419T140000Z
DTEND:20260419T163000Z
DESCRIPTION:Tenis\, ATP 500\, Barcelona
END:VEVENT
END:VCALENDAR
