BEGIN:VCALENDAR
VERSION:2.0
CALSCALE:GREGORIAN
PRODID:Sportnet.sk
METHOD:PUBLISH
X-PUBLISHED-TTL:PT1H
BEGIN:VEVENT
UID:tvprogram-cal:69c51fc9aae1188f032e1e26
SUMMARY:voyo.sk: Racing Strasbourg - Stade Rennes
DTSTAMP:20260315T134300Z
DTSTART:20260419T151000Z
DTEND:20260419T173000Z
DESCRIPTION:Futbal\, Francúzsko\, 30. kolo
END:VEVENT
END:VCALENDAR
