BEGIN:VCALENDAR
VERSION:2.0
CALSCALE:GREGORIAN
PRODID:Sportnet.sk
METHOD:PUBLISH
X-PUBLISHED-TTL:PT1H
BEGIN:VEVENT
UID:tvprogram-cal:69c51fc9aae1188f032e1dbd
SUMMARY:voyo.sk: Schalke 04 - Preußen Münster
DTSTAMP:20260315T134300Z
DTSTART:20260419T112500Z
DTEND:20260419T132500Z
DESCRIPTION:Futbal\, Nemecko 2\, 30. kolo
END:VEVENT
END:VCALENDAR
