BEGIN:VCALENDAR
VERSION:2.0
CALSCALE:GREGORIAN
PRODID:Sportnet.sk
METHOD:PUBLISH
X-PUBLISHED-TTL:PT1H
BEGIN:VEVENT
UID:tvprogram-cal:69c51fc9aae1188f032e1d91
SUMMARY:Nova Sport 4: SC Freiburg - 1. FC Heidenheim
DTSTAMP:20260315T134300Z
DTSTART:20260419T132500Z
DTEND:20260419T153500Z
DESCRIPTION:Futbal\, Nemecko\, 30. kolo
END:VEVENT
END:VCALENDAR
