BEGIN:VCALENDAR
VERSION:2.0
CALSCALE:GREGORIAN
PRODID:Sportnet.sk
METHOD:PUBLISH
X-PUBLISHED-TTL:PT1H
BEGIN:VEVENT
UID:tvprogram-cal:69c51fc9aae1188f032e1c30
SUMMARY:Nova Sport 1: Vegas Golden Knights - Utah Mammoth
DTSTAMP:20260315T134300Z
DTSTART:20260420T020500Z
DTEND:20260420T044500Z
DESCRIPTION:Ľadový hokej\, NHL\, play-off
END:VEVENT
END:VCALENDAR
