BEGIN:VCALENDAR
VERSION:2.0
CALSCALE:GREGORIAN
PRODID:Sportnet.sk
METHOD:PUBLISH
X-PUBLISHED-TTL:PT1H
BEGIN:VEVENT
UID:tvprogram-cal:69c51fc9aae1188f032e1bb0
SUMMARY:Oneplay Sport 4: FC Hradec Králové - SK Slavia Praha
DTSTAMP:20260315T134300Z
DTSTART:20260419T133000Z
DTEND:20260419T154500Z
DESCRIPTION:Futbal\, Česko\, 30. kolo
END:VEVENT
END:VCALENDAR
