BEGIN:VCALENDAR
VERSION:2.0
CALSCALE:GREGORIAN
PRODID:Sportnet.sk
METHOD:PUBLISH
X-PUBLISHED-TTL:PT1H
BEGIN:VEVENT
UID:tvprogram-cal:69c51fc9aae1188f032e1bac
SUMMARY:Oneplay Sport MD9: FC Viktoria Plzeň - FK Pardubice
DTSTAMP:20260315T134300Z
DTSTART:20260419T162500Z
DTEND:20260419T183000Z
DESCRIPTION:Futbal\, Česko\, 30. kolo - datazóna
END:VEVENT
END:VCALENDAR
