BEGIN:VCALENDAR
VERSION:2.0
CALSCALE:GREGORIAN
PRODID:Sportnet.sk
METHOD:PUBLISH
X-PUBLISHED-TTL:PT1H
BEGIN:VEVENT
UID:tvprogram-cal:69c51fc9aae1188f032e1b72
SUMMARY:Oneplay Sport 3: SK Sigma Olomouc - 1.FC Slovácko
DTSTAMP:20260315T134300Z
DTSTART:20260419T103000Z
DTEND:20260419T133000Z
DESCRIPTION:Futbal\, Česko\, 30. kolo
END:VEVENT
END:VCALENDAR
