BEGIN:VCALENDAR
VERSION:2.0
CALSCALE:GREGORIAN
PRODID:Sportnet.sk
METHOD:PUBLISH
X-PUBLISHED-TTL:PT1H
BEGIN:VEVENT
UID:tvprogram-cal:69c51fc9aae1188f032e1b52
SUMMARY:Oneplay Sport 2: HC Dynamo Pardubice - HC Oceláři Třinec
DTSTAMP:20260315T134300Z
DTSTART:20260419T141500Z
DTEND:20260419T181500Z
DESCRIPTION:Ľadový hokej\, Česko\, finále
END:VEVENT
END:VCALENDAR
