BEGIN:VCALENDAR
VERSION:2.0
CALSCALE:GREGORIAN
PRODID:Sportnet.sk
METHOD:PUBLISH
X-PUBLISHED-TTL:PT1H
BEGIN:VEVENT
UID:tvprogram-cal:69c51fc9aae1188f032e1b08
SUMMARY:Oneplay Sport 1: FC Viktoria Plzeň - FK Pardubice
DTSTAMP:20260315T134300Z
DTSTART:20260419T163000Z
DTEND:20260419T183000Z
DESCRIPTION:Futbal\, Česko\, 30. kolo
END:VEVENT
END:VCALENDAR
