BEGIN:VCALENDAR
VERSION:2.0
CALSCALE:GREGORIAN
PRODID:Sportnet.sk
METHOD:PUBLISH
X-PUBLISHED-TTL:PT1H
BEGIN:VEVENT
UID:tvprogram-cal:69c511bbaae1188f03143b46
SUMMARY:Canal+ Sport 2: Finále
DTSTAMP:20260315T134300Z
DTSTART:20260419T110000Z
DTEND:20260419T130000Z
DESCRIPTION:Tenis\, WTA 500\, Stuttgart
END:VEVENT
END:VCALENDAR
