BEGIN:VCALENDAR
VERSION:2.0
CALSCALE:GREGORIAN
PRODID:Sportnet.sk
METHOD:PUBLISH
X-PUBLISHED-TTL:PT1H
BEGIN:VEVENT
UID:tvprogram-cal:69c511bbaae1188f03143aec
SUMMARY:Canal+ Sport: Everton - Liverpool
DTSTAMP:20260315T134300Z
DTSTART:20260419T125500Z
DTEND:20260419T150500Z
DESCRIPTION:Futbal\, Anglicko\, 33. kolo
END:VEVENT
END:VCALENDAR
