BEGIN:VCALENDAR
VERSION:2.0
CALSCALE:GREGORIAN
PRODID:Sportnet.sk
METHOD:PUBLISH
X-PUBLISHED-TTL:PT1H
BEGIN:VEVENT
UID:tvprogram-cal:69c511baaae1188f03143a76
SUMMARY:Joj šport: HK Nitra - HC Slovan Bratislava
DTSTAMP:20260315T134300Z
DTSTART:20260419T152500Z
DTEND:20260419T185500Z
DESCRIPTION:Ľadový hokej\, Tipsport liga\, finále
END:VEVENT
END:VCALENDAR
