BEGIN:VCALENDAR
VERSION:2.0
CALSCALE:GREGORIAN
PRODID:Sportnet.sk
METHOD:PUBLISH
X-PUBLISHED-TTL:PT1H
BEGIN:VEVENT
UID:tvprogram-cal:69c511baaae1188f03143a6d
SUMMARY:Joj šport: Zápas
DTSTAMP:20260315T134300Z
DTSTART:20260419T122500Z
DTEND:20260419T150000Z
DESCRIPTION:Ľadový hokej\, Tipsport liga\, baráž
END:VEVENT
END:VCALENDAR
