BEGIN:VCALENDAR
VERSION:2.0
CALSCALE:GREGORIAN
PRODID:Sportnet.sk
METHOD:PUBLISH
X-PUBLISHED-TTL:PT1H
BEGIN:VEVENT
UID:tvprogram-cal:69c11d3baae1188f03b9bfca
SUMMARY:Sport 2: 3. deň
DTSTAMP:20260315T134300Z
DTSTART:20260419T170000Z
DTEND:20260419T210000Z
DESCRIPTION:Šípky\, European Darts Trophy
END:VEVENT
END:VCALENDAR
