BEGIN:VCALENDAR
VERSION:2.0
CALSCALE:GREGORIAN
PRODID:Sportnet.sk
METHOD:PUBLISH
X-PUBLISHED-TTL:PT1H
BEGIN:VEVENT
UID:tvprogram-cal:69c11d3baae1188f03b9bf80
SUMMARY:Sport 1: Juventus - Bologna
DTSTAMP:20260315T134300Z
DTSTART:20260419T184500Z
DTEND:20260419T204500Z
DESCRIPTION:Futbal\, Taliansko\, 33. kolo
END:VEVENT
END:VCALENDAR
