BEGIN:VCALENDAR
VERSION:2.0
CALSCALE:GREGORIAN
PRODID:Sportnet.sk
METHOD:PUBLISH
X-PUBLISHED-TTL:PT1H
BEGIN:VEVENT
UID:tvprogram-cal:69c11d3baae1188f03b9bf7c
SUMMARY:Sport 1: Verona - AC Miláno
DTSTAMP:20260315T134300Z
DTSTART:20260419T130000Z
DTEND:20260419T150000Z
DESCRIPTION:Futbal\, Taliansko\, 33. kolo
END:VEVENT
END:VCALENDAR
