BEGIN:VCALENDAR
VERSION:2.0
CALSCALE:GREGORIAN
PRODID:Sportnet.sk
METHOD:PUBLISH
X-PUBLISHED-TTL:PT1H
BEGIN:VEVENT
UID:tvprogram-cal:69c08289aae1188f03b7e8a3
SUMMARY:voyo.sk: Crystal Palace - West Ham
DTSTAMP:20260315T134300Z
DTSTART:20260420T185500Z
DTEND:20260420T210500Z
DESCRIPTION:Futbal\, Anglicko\, 33. kolo
END:VEVENT
END:VCALENDAR
